BEGIN:VCALENDAR
VERSION:2.0
PRODID:-//RCCG Grace Sanctuary - ECPv6.15.20//NONSGML v1.0//EN
CALSCALE:GREGORIAN
METHOD:PUBLISH
X-WR-CALNAME:RCCG Grace Sanctuary
X-ORIGINAL-URL:https://rccgfw.org
X-WR-CALDESC:Events for RCCG Grace Sanctuary
REFRESH-INTERVAL;VALUE=DURATION:PT1H
X-Robots-Tag:noindex
X-PUBLISHED-TTL:PT1H
BEGIN:VTIMEZONE
TZID:America/New_York
BEGIN:DAYLIGHT
TZOFFSETFROM:-0500
TZOFFSETTO:-0400
TZNAME:EDT
DTSTART:20170312T070000
END:DAYLIGHT
BEGIN:STANDARD
TZOFFSETFROM:-0400
TZOFFSETTO:-0500
TZNAME:EST
DTSTART:20171105T060000
END:STANDARD
BEGIN:DAYLIGHT
TZOFFSETFROM:-0500
TZOFFSETTO:-0400
TZNAME:EDT
DTSTART:20180311T070000
END:DAYLIGHT
BEGIN:STANDARD
TZOFFSETFROM:-0400
TZOFFSETTO:-0500
TZNAME:EST
DTSTART:20181104T060000
END:STANDARD
BEGIN:DAYLIGHT
TZOFFSETFROM:-0500
TZOFFSETTO:-0400
TZNAME:EDT
DTSTART:20190310T070000
END:DAYLIGHT
BEGIN:STANDARD
TZOFFSETFROM:-0400
TZOFFSETTO:-0500
TZNAME:EST
DTSTART:20191103T060000
END:STANDARD
END:VTIMEZONE
BEGIN:VTIMEZONE
TZID:UTC
BEGIN:STANDARD
TZOFFSETFROM:+0000
TZOFFSETTO:+0000
TZNAME:UTC
DTSTART:20170101T000000
END:STANDARD
END:VTIMEZONE
BEGIN:VEVENT
DTSTART;TZID=America/New_York:20180728T100000
DTEND;TZID=America/New_York:20180728T140000
DTSTAMP:20260423T155759
CREATED:20180717T171646Z
LAST-MODIFIED:20180717T200624Z
UID:189-1532772000-1532786400@rccgfw.org
SUMMARY:3rd Annual Women's Conference: "Women of Excellence"
DESCRIPTION:Our 3rd Annual Women’s Conference is titled: “Women of Excellence”. Our hope is to empower and edify women of RCCG and in the surrounding communities; by doing so these women would be able to fulfill their God-given purpose. This ministry is strategically positioned to be able to utilize and harness all talents\, gifts and resources to build up women in the body of Christ. \nPlease call Pastor Mrs. Victor Ezeakudo @ 347-204-5612 for any questions about the event.
URL:https://rccgfw.org/event/3rd-annual-womens-conference-women-of-excellence/
CATEGORIES:Women's Ministry
END:VEVENT
BEGIN:VEVENT
DTSTART;TZID=UTC:20180322T180000
DTEND;TZID=UTC:20180323T150000
DTSTAMP:20260423T155759
CREATED:20180301T232042Z
LAST-MODIFIED:20180301T232042Z
UID:178-1521741600-1521817200@rccgfw.org
SUMMARY:Women in Ministry Conference
DESCRIPTION:← Back Thank you for your response. ✨\n\n\n					\n						\n							\n							\n						\n						\n						\n						\n						\n							\n								\n									\n										\n										\n									\n									\n										\n										\n									\n								\n							\n						\n						\n							\n								\n									\n									\n										\n									\n									\n									\n								\n							\n						\n					\n				\n\n\n\nName(required)\n\n \n			\n				\n					\n						\n						\n						\n					\n				\n				\n			 \n	\n\n\nEmail(required)\n\n \n			\n				\n					\n						\n						\n						\n					\n				\n				\n			 \n	\n\n\nWebsite\n\n \n			\n				\n					\n						\n						\n						\n					\n				\n				\n			 \n	\n\n\nMessage\n\n \n			\n				\n					\n						\n						\n						\n					\n				\n				\n			\n	\n	\n\n				\n					\n				\n						Submit		\n		\n		\n	 \nΔ
URL:https://rccgfw.org/event/women-in-ministry-conference/
LOCATION:Hyatt Regency Dallas TX\, 300 Reunion Blvd E\, Dallas\, TX\, 75207\, United States
ATTACH;FMTTYPE=image/jpeg:https://rccgfw.org/wp-content/uploads/2018/03/WIM2018-flyer.jpg
END:VEVENT
END:VCALENDAR